BEGIN:VCALENDAR
VERSION:2.0
PRODID:Events Booking
BEGIN:VEVENT
UID:69e7956867b34
SUMMARY:Sustainability Summit 2023
DESCRIPTION:What do you value about Our Planet and its People?&nbsp\; If yo
 u were asked to describe your home landscape\, what would you say?&nbsp\; 
 Which trees\, and which flowers?&nbsp\; Which animals and which insects?&n
 bsp\; What foods do you like to eat?&nbsp\; Where do you like to go on hol
 iday?
 And if someone said they were going to take that away\, how would 
 you respond?
 On our current trajectory\, many of those things will have 
 been taken away from everyone by 2050.
 Our People and Planet are under t
 hreat. Now is the time to ACT.
 Scientists\, NGOs and startups have been 
 flying the warning flags for years – now it’s time for Project Profess
 ionals to get into gear.
 Because Projects are the driving force behind H
 ow goals are achieved\, How change is realised and How lasting value is de
 livered.
 That’s why PMI Europe Chapters\, including UK\, Belgium\, Net
 herlands\, Germany\, and Turkey\, are calling people to the Sustainability
  Summit 2023 on 8th November 2023.
 We know the “What” – And we kno
 w the “Why” – But Project Managers are in the unique position of und
 erstanding the “How”. Our job\, every day\, is to make things happen.
 
 This is a Summit to empower people to make ideas a reality\, and to turn
  intention into ACTION.
 Our Mission is to engage\, inspire\, equip and m
 obilise\, current and next generation project professionals and change mak
 ers to optimise our impact towards the UN SDG’s and make the world a bet
 ter place.
 And we want you to join our mission to ACT now.
 Register he
 re:&nbsp\;https://hopin.com/events/sustainability-summit-2023
 &nbsp\;
DTSTART:20231108T070000Z
DTEND:20231108T190000Z
DTSTAMP:20230702T182118Z
ORGANIZER;CN=PMI Germany Chapter e.V.:MAILTO:website@pmi-gc.de
END:VEVENT
END:VCALENDAR