BEGIN:VCALENDAR
VERSION:2.0
PRODID:Events Booking
BEGIN:VEVENT
UID:69e818f8463d8
SUMMARY:Volunteer Orientierung
DESCRIPTION:Volunteer-Orientierung - Orientierung für Volunteers\,&nbsp\;K
 urze Info über Volunteering im PMI Germany Chapter\, über Möglichkeiten
  des Engagement im Chapter: Chapter Ressorts\, Circles\, CoPs
DTSTART:20230524T173000Z
DTEND:20230524T183000Z
DTSTAMP:20230314T210242Z
ORGANIZER;CN=PMI Germany Chapter e.V.:MAILTO:website@pmi-gc.de
END:VEVENT
END:VCALENDAR