BEGIN:VCALENDAR
VERSION:2.0
PRODID:Events Booking
BEGIN:VEVENT
UID:69e8750ce2929
SUMMARY:Volunteer Orientierung
DESCRIPTION:Volunteer-Orientierung - Orientierung für Volunteers\,&nbsp\;K
 urze Info über Volunteering im PMI Germany Chapter\, über Möglichkeiten
  des Engagement im Chapter: Chapter Ressorts\, Circles\, CoPs
DTSTART:20230124T170000Z
DTEND:20230124T180000Z
DTSTAMP:20230122T160224Z
ORGANIZER;CN=PMI Germany Chapter e.V.:MAILTO:website@pmi-gc.de
END:VEVENT
END:VCALENDAR