BEGIN:VCALENDAR
VERSION:2.0
PRODID:Events Booking
BEGIN:VEVENT
UID:69e8b5c847b1b
SUMMARY:Wie AGIL sind unsere Unternehmen?
DESCRIPTION:Über AGIL spricht jeder. Doch wie sieht es konkret in den Unte
 rnehmen aus? Was wird bereits gelebt\, was ist geplant\, wo geht es weiter
 \, wo nicht?
 Die Veranstaltung richtet sich an alle\, die von den Erfahr
 ungen der Teilnehmer profitieren wollen und gleichzeitig bereit sind\, eig
 ene Erfahrungen einzubringen. Dabei wird es darum gehen\, agile Frameworks
  aus der Methode heraus zu betrachten und zu lernen\, wie weit sich Method
 en anwenden lassen. Am spannendsten ist es immer dann\, wenn Stolpersteine
  Fundstellen sind\, unter denen man neues Wissen findet.
 Es wird ein Net
 working-Event sein\, das zum Erfahrungsaustausch anregt.
LOCATION:Weißenfelser Straße 67\, Leipzig\, 04229 Sachsen\, Deutschland
DTSTART:20221011T160000Z
DTEND:20221011T180000Z
DTSTAMP:20220920T152424Z
ORGANIZER;CN=PMI Germany Chapter e.V.:MAILTO:website@pmi-gc.de
GEO:51.329183;12.329587
X-APPLE-STRUCTURED-LOCATION;VALUE=URI;X-ADDRESS=Weißenfelser Straße 67\, 
 Leipzig\, 04229 Sachsen\, Deutschland;X-APPLE-RADIUS=72;X-TITLE=firm Train
 ing und Seminare:51.329183;12.329587
END:VEVENT
END:VCALENDAR