BEGIN:VCALENDAR
VERSION:2.0
PRODID:Events Booking
BEGIN:VEVENT
UID:69e778b83d238
SUMMARY:Women@PMIGC - Resilienz ist eine Frage Deiner Haltung – so wirst 
 Du 2024 mental stark und selbst-bewusst
DESCRIPTION:Resilienz ist eine Frage Deiner Haltung – so wirst Du 2024 me
 ntal stark und selbst-bewusst
DTSTART:20240220T183000Z
DTEND:20240220T200000Z
DTSTAMP:20231217T185716Z
ORGANIZER;CN=PMI Germany Chapter e.V.:MAILTO:website@pmi-gc.de
END:VEVENT
END:VCALENDAR