BEGIN:VCALENDAR
VERSION:2.0
PRODID:Events Booking
BEGIN:VEVENT
UID:69e803b817132
SUMMARY:Women@PMIGC - Book club and more
DESCRIPTION:\"Book club and more\" to exchange and get ideas about books\, 
 podcasts and articles for the summer holidays.
DTSTART:20230620T173000Z
DTEND:20230620T184500Z
DTSTAMP:20230521T175338Z
ORGANIZER;CN=PMI Germany Chapter e.V.:MAILTO:website@pmi-gc.de
END:VEVENT
END:VCALENDAR