BEGIN:VCALENDAR
VERSION:2.0
PRODID:Events Booking
BEGIN:VEVENT
UID:69e730ce522f4
SUMMARY:40th English PMI Round Table Frankfurt June 2025
DESCRIPTION:40th English PMI Round Table Frankfurt June 2025
 PMI Round Ta
 ble on Project Management topic
 Topic: From Hierarchy to Openness! 
 2
 4.06.2025 18:30 - 20:30
  
 Dear PM enthusiasts\, members of PMI and fr
 iends\,
 Greetings and here's the invite to the next English Round Table 
 for the project management professionals living in and around the city of 
 Frankfurt. With this event we intend to facilitate exchange between PMs\, 
 and we will talk about Project & Program Management related topic in the O
 rganization.
 This meeting will allow you to discuss on any of the projec
 t management related topic or questions in your project\, program\, organi
 zation\, or your day-to-day activities. Our volunteer team from the PMI Ge
 rmany Chapter will be available to facilitate the discussion.
 As we are 
 an international team\, the language of the event is English\, and the que
 stions can be discussed in German if required.
  
 Topic: From Hierarch
 y to Openness! 
 Abstract: How cultural work styles impact team dynamics
  and why psychological safety and openness matter in diverse teams.
  

  Speaker (Self-Introduction Note): My name is Forough Mohseni and I am 43 
 years old. I immigrated to Germany in 2021. Before that\, I worked for a c
 ompany involved in EPC projects within the mining and steel industries. I 
 began my career there as a process engineer and later transitioned to the 
 projects department\, where I also gained experience as a procurement mana
 ger. In 2018\, I earned my PMP certification. Currently\, I work at Newfer
  as a project manager. Our company specializes in the design and technolog
 y of iron ore pelletizing and beneficiation plants. So far\, I have manage
 d three different projects in Iran and three projects in India.
LOCATION:Weckmarkt\, Frankfurt\, 60311 Hesse\, Germany
DTSTART:20250624T163000Z
DTEND:20250624T183000Z
DTSTAMP:20250520T200151Z
ORGANIZER;CN=PMI Germany Chapter e.V.:MAILTO:website@pmi-gc.de
GEO:50.110209;8.685693
X-APPLE-STRUCTURED-LOCATION;VALUE=URI;X-ADDRESS=Weckmarkt\, Frankfurt\, 603
 11 Hesse\, Germany;X-APPLE-RADIUS=72;X-TITLE=:50.110209;8.685693
END:VEVENT
END:VCALENDAR