BEGIN:VCALENDAR
VERSION:2.0
PRODID:Events Booking
BEGIN:VEVENT
UID:69e8180cd29bd
SUMMARY:Agile projects or why there is no agile project management
DESCRIPTION:Can an \"agile project\" work without a project manager? Can a 
 \"classic\" project also be agile without a scrum master and product owner
 ?Why the role of the project manager still has a future and why projects w
 ith a non-agile approach can also be highly agile will be shown and discus
 sed on this evening.
LOCATION:Riesaer Straße\, Dresden\, 01129 Sachsen\, Deutschland
DTSTART:20230417T160000Z
DTEND:20230417T180000Z
DTSTAMP:20230328T130823Z
ORGANIZER;CN=PMI Germany Chapter e.V.:MAILTO:website@pmi-gc.de
GEO:51.082284;13.724818
X-APPLE-STRUCTURED-LOCATION;VALUE=URI;X-ADDRESS=Riesaer Straße\, Dresden\,
  01129 Sachsen\, Deutschland;X-APPLE-RADIUS=72;X-TITLE=:51.082284;13.72481
 8
END:VEVENT
END:VCALENDAR