BEGIN:VCALENDAR
VERSION:2.0
PRODID:Events Booking
BEGIN:VEVENT
UID:69e8df0e38055
SUMMARY:Flexible work schedules in promoting employee productivity - Sara A
 bdallah
DESCRIPTION: 
 Flexible Work Schedules in Promoting Employee Productivity
 
 Brief Outline of the training:
 
 Benefits of adopting flexible work 
 schedules
 Potential Drawbacks
 Research and Findings
 Real Life Exampl
 es and Best Practices
 Discussion and Suggestions of Flexible Work Schedu
 les
 
 Sara Abdallah: 
 PMP Certified project manager with experience i
 n diverse business fields related to communications and marketing\, entrep
 reneurship\, human resources management\, and hospitality. Interest and fi
 eld of work spread across the themes of social wellbeing\, educational dev
 elopment\, as well as women empowerment and capacity building.
  
  
DTSTART:20220719T153000Z
DTEND:20220719T170000Z
DTSTAMP:20220621T172103Z
ORGANIZER;CN=PMI Germany Chapter e.V.:MAILTO:website@pmi-gc.de
END:VEVENT
END:VCALENDAR