BEGIN:VCALENDAR
VERSION:2.0
PRODID:Events Booking
BEGIN:VEVENT
UID:69e77222a613e
SUMMARY:Building and Leading High-Performance Teams
DESCRIPTION:Join us for a dynamic and interactive roundtable session on \"B
 uilding and Leading High-Performance Teams.\" In this engaging event\, we'
 ll explore effective strategies for addressing challenges in team dynamics
  and collaboration\, and how to ensure your teams reach their full potenti
 al.
LOCATION:Arnulfstraße 59\, München\, 80636 Bayern\, Deutschland
DTSTART:20240125T170000Z
DTEND:20240125T180000Z
DTSTAMP:20231127T121014Z
ORGANIZER;CN=PMI Germany Chapter e.V.:MAILTO:website@pmi-gc.de
GEO:48.145553;11.538317
X-APPLE-STRUCTURED-LOCATION;VALUE=URI;X-ADDRESS=Arnulfstraße 59\, München
 \, 80636 Bayern\, Deutschland;X-APPLE-RADIUS=72;X-TITLE=:48.145553;11.5383
 17
END:VEVENT
END:VCALENDAR