BEGIN:VCALENDAR
VERSION:2.0
PRODID:Events Booking
BEGIN:VEVENT
UID:69e8f339b6c70
SUMMARY:Chapter Meeting Frankfurt July 2022
DESCRIPTION:We will meet again in person at Ka-eins in the Ökohaus in Fran
 kfurt
 The event is free for chapter members!
 Speaker for this Event wi
 ll be Dr. Martin Bertram\, VP Region Central in the PMI Germany Chapter e.
 V.
 The future of Projectmanagement
 The speaker will present the follow
 ing topics:
 
 Global trends in Projectmanagement
 Which requirements f
 or project managers result from this
 The reaction of PMI
 
 There will
  be much room for discussions.
 During the second part of this event we w
 ould like to discuss\, how the PMI Germany Chapter can support its members
 .
LOCATION:Kasseler Straße 1A \, Frankfurt am Main\, 60486 Hessen\, Deutschl
 and
DTSTART:20220725T153000Z
DTEND:20220725T190000Z
DTSTAMP:20220701T073328Z
ORGANIZER;CN=PMI Germany Chapter e.V.:MAILTO:website@pmi-gc.de
GEO:50.120773;8.637514
X-APPLE-STRUCTURED-LOCATION;VALUE=URI;X-ADDRESS=Kasseler Straße 1A \, Fran
 kfurt am Main\, 60486 Hessen\, Deutschland;X-APPLE-RADIUS=72;X-TITLE=KA-ei
 ns im Ökohaus:50.120773;8.637514
END:VEVENT
END:VCALENDAR