BEGIN:VCALENDAR
VERSION:2.0
PRODID:Events Booking
BEGIN:VEVENT
UID:69e88c7581ad6
SUMMARY:Chapter Meeting Frankfurt November 2022
DESCRIPTION:The topic \"Sustainability\" will be presented by Katja Mayer

  Details will be updated soon.
 Free participation only for members of th
 e PMI Germany Chapters
 For any questions about this event: matthias.kol
 l@pmi-gc.de
LOCATION:Kasseler Straße 1a\, Frankfurt am Main\, 60486 Hessen\, Deutschla
 nd
DTSTART:20221128T170000Z
DTEND:20221128T190000Z
DTSTAMP:20220701T121448Z
ORGANIZER;CN=PMI Germany Chapter e.V.:MAILTO:website@pmi-gc.de
GEO:50.120773;8.637514
X-APPLE-STRUCTURED-LOCATION;VALUE=URI;X-ADDRESS=Kasseler Straße 1a\, Frank
 furt am Main\, 60486 Hessen\, Deutschland;X-APPLE-RADIUS=72;X-TITLE=Ökoha
 us KA1 Frankfurt:50.120773;8.637514
END:VEVENT
END:VCALENDAR