BEGIN:VCALENDAR
VERSION:2.0
PRODID:Events Booking
BEGIN:VEVENT
UID:69e8a1772a7a6
SUMMARY:Chapter Meeting Frankfurt October 2022
DESCRIPTION:
 
 Presentation Dr. Matthias Liermann\, Global Head of Produ
 ct Management DWS bei DWS Group.„Agile project management in global prod
 uct management at DWS“\, Agile forms of collaboration continue to evolve
  out of the realm of pure software development.Dr. Matthias Liermann expla
 ins from his direct practical experience how the global teams in product m
 anagement at DWS Group benefit from self-organized collaboration and have 
 introduced agile practices and methods in a \"Agile to Go\" approach.\"
 
 
 
 Presentation Andreas Slogar\, Adaptive Businesses Transformation Exp
 ert\, Deloitte Consulting\"Successfully implementing large-scale developme
 nt and transformation projects through cybernetics“If a company is plann
 ing a large-scale transformation or product development project involving 
 more than 50\, 150 or 250 employees\, then this is what we call a complex 
 endeavor.Complex because its dynamics are unpredictable. Classical project
  management methodologies fail because of this dynamic since they strive f
 or control and steering through simplification.Through the models and prin
 ciples of cybernetics\, large projects with any number of participants\, s
 takeholders and affected parties can be brought into an efficient and effe
 ctive cooperation and thus compensate for the weaknesses of a classical pr
 oject management approach.
 
 
 The presentations will be in German\, b
 ut questions in English are welcome.
 This event will be a face to face m
 eeting in the office of&nbsp\;Deloitte Consulting GmbH\;&nbsp\;Europa-Alle
 e 91\, 60486 Frankfurt am Main.
 Monday October 31st 2022\; Open from 17:
 30h\, Start 18:00h.
 Free only for PMI Germany Chapter members
LOCATION:Europa-Allee 91\, Frankfurt am Main\, 60486 Hessen\, Deutschland
DTSTART:20221031T163000Z
DTEND:20221031T200000Z
DTSTAMP:20220701T073928Z
ORGANIZER;CN=PMI Germany Chapter e.V.:MAILTO:website@pmi-gc.de
GEO:50.107773;8.638295
X-APPLE-STRUCTURED-LOCATION;VALUE=URI;X-ADDRESS=Europa-Allee 91\, Frankfurt
  am Main\, 60486 Hessen\, Deutschland;X-APPLE-RADIUS=72;X-TITLE=Deloitte F
 rankfurt Office:50.107773;8.638295
END:VEVENT
END:VCALENDAR