BEGIN:VCALENDAR
VERSION:2.0
PRODID:Events Booking
BEGIN:VEVENT
UID:69e7da586bb28
SUMMARY:Chapter Meeting Stuttgart July 2023
DESCRIPTION:Thanks to our chapter sponsor PS Consulting GmbH\, who invites 
 to the chapter meeting in Haiterbach near Stuttgart on July 17th\, there w
 ill be an exciting evening for all chapter members and those who want to b
 ecome one. Program components are power skills\, values and sustainability
  in project management.
LOCATION:Horber Straße\, Haiterbach\, 72221 Baden-Württemberg\, Deutschla
 nd
DTSTART:20230717T160000Z
DTEND:20230717T190000Z
DTSTAMP:20221119T061449Z
ORGANIZER;CN=PMI Germany Chapter e.V.:MAILTO:website@pmi-gc.de
GEO:48.517181;8.648012
X-APPLE-STRUCTURED-LOCATION;VALUE=URI;X-ADDRESS=Horber Straße\, Haiterbach
 \, 72221 Baden-Württemberg\, Deutschland;X-APPLE-RADIUS=72;X-TITLE=:48.51
 7181;8.648012
END:VEVENT
END:VCALENDAR