BEGIN:VCALENDAR
VERSION:2.0
PRODID:Events Booking
BEGIN:VEVENT
UID:69e89ef781393
SUMMARY:Cloud Migration
DESCRIPTION:3rd lecture in the series \"Ways to the Cloud\" of the Cologne 
 Group of the PMI GC and the Community of Practice Citizen Development. Thi
 s evening will focus on the aspects of migration and optimization.In his n
 ew lecture\, Christian Rohrbeck - after analyzing profitability aspects in
  his last lecture - will address on October 25\, 2022 the topics of planni
 ng a cloud migration and an initial optimization of the cloud operation.
DTSTART:20221025T160000Z
DTEND:20221025T180000Z
DTSTAMP:20221004T064653Z
ORGANIZER;CN=PMI Germany Chapter e.V.:MAILTO:website@pmi-gc.de
END:VEVENT
END:VCALENDAR