BEGIN:VCALENDAR
VERSION:2.0
PRODID:Events Booking
BEGIN:VEVENT
UID:69e861d73e584
SUMMARY:Path into the Cloud: Provider: Selection and Contract
DESCRIPTION:The Cologne Group and the Community of Practice Citizen Develop
 ment of the PMI Germany Chapter invite you to the 5th online lecture in th
 e series on January 17:Paths to the Cloud - Provider Selection and Contrac
 t
DTSTART:20230117T170000Z
DTEND:20230117T190000Z
DTSTAMP:20230107T064355Z
ORGANIZER;CN=PMI Germany Chapter e.V.:MAILTO:website@pmi-gc.de
END:VEVENT
END:VCALENDAR