BEGIN:VCALENDAR
VERSION:2.0
PRODID:Events Booking
BEGIN:VEVENT
UID:69e8614974073
SUMMARY:Community of Practice PMO
DESCRIPTION:Welcome to the CoP PMO\,the community of practice for project\,
  program and portfolio management offices.We meet regularly and share expe
 riences\, provide assistance with questions\, and work on puplidhing paper
 s or hold presentations.If you want to learn more\, here is the descriptio
 n of our fine exchange group: https://www.pmi-gc.de/cop/pmoMany greetingsA
 nnett & Florian
DTSTART:20221019T163000Z
DTEND:20221019T180000Z
DTSTAMP:20220719T140705Z
ORGANIZER;CN=PMI Germany Chapter e.V.:MAILTO:website@pmi-gc.de
END:VEVENT
END:VCALENDAR