BEGIN:VCALENDAR
VERSION:2.0
PRODID:Events Booking
BEGIN:VEVENT
UID:69e8b42ead1a1
SUMMARY:Projekte erfolgreich starten mit einem Design Sprint
DESCRIPTION:You have an idea for a project that can advance your business\,
  but you are still unsure whether it really has a real chance of success? 
 So how can you test whether your idea is feasible in just a few days and w
 ith your own resources?
 This is exactly where the Design Sprint method c
 omes into play. In this meeting we will demonstrate the implementation of 
 a Design Sprint in the creative environment of the Erlebniswerkstatt Essen
 . Experience for yourself what New Work can look like!
LOCATION:Rotthauser Straße\, Essen\, 45309 Nordrhein-Westfalen\, Deutschla
 nd
DTSTART:20220920T160000Z
DTEND:20220920T190000Z
DTSTAMP:20220816T064022Z
ORGANIZER;CN=PMI Germany Chapter e.V.:MAILTO:website@pmi-gc.de
GEO:51.474287;7.083607
X-APPLE-STRUCTURED-LOCATION;VALUE=URI;X-ADDRESS=Rotthauser Straße\, Essen\
 , 45309 Nordrhein-Westfalen\, Deutschland;X-APPLE-RADIUS=72;X-TITLE=:51.47
 4287;7.083607
END:VEVENT
END:VCALENDAR