BEGIN:VCALENDAR
VERSION:2.0
PRODID:Events Booking
BEGIN:VEVENT
UID:69e7ab1bb48b6
SUMMARY:Digital leadership
DESCRIPTION:Together with the Dresden regional group of GPM e.V.\, the PMI 
 Local Group Dresden invites you to the topic
 &nbsp\;
 \"Digital leaders
 hip. Those who already have solutions here are well advised...\".
 The pa
 rticipant is given clear terminology to sort through the contradictions of
  the superficially unclear terms. This is done by classifying the use of t
 he term in the context (situational meaning of the term). In addition\, th
 e lecture also provides decision-making aids for the use of the agile meth
 ods examined.
DTSTART:20230913T160000Z
DTEND:20230913T173000Z
DTSTAMP:20230909T161336Z
ORGANIZER;CN=PMI Germany Chapter e.V.:MAILTO:website@pmi-gc.de
END:VEVENT
END:VCALENDAR