BEGIN:VCALENDAR
VERSION:2.0
PRODID:Events Booking
BEGIN:VEVENT
UID:69e795c9e6ecd
SUMMARY:Digital literacy in project management
DESCRIPTION:Together with the Dresden regional group of GPM e.V.\, the PMI 
 Local Group Dresden invites you to the topic
 Digital literacy in project
  management
 The use of digital technologies has a disruptive effect on t
 he value creation of companies and the entire economic system. New busines
 s models are emerging\, old ones are being transformed. Work and business 
 processes change accordingly and lead to new competence requirements. Find
  out more here...
LOCATION:Kleiststraße 10a\, 01129 Dresden
DTSTART:20231016T160000Z
DTEND:20231016T180000Z
DTSTAMP:20230915T035219Z
ORGANIZER;CN=PMI Germany Chapter e.V.:MAILTO:website@pmi-gc.de
END:VEVENT
END:VCALENDAR