BEGIN:VCALENDAR
VERSION:2.0
PRODID:Events Booking
BEGIN:VEVENT
UID:69e76faa86562
SUMMARY:Give effective presentations
DESCRIPTION:The Local Group Berlin / Brandenburg invites you to take a jour
 ney with Dr. Thomas A. Coucoulis\, to give impressive and lasting presenta
 tions and to use rhetorical tools to convey the goal of the project to all
  stakeholders.Thomas A. Coucoulis explains in a one-hour keynote speech ho
 w\, through effective presentations\, everyone understands what you want t
 o convey and everyone has the motivation to want to work with you.
DTSTART:20231207T180000Z
DTEND:20231207T190000Z
DTSTAMP:20231004T141801Z
ORGANIZER;CN=PMI Germany Chapter e.V.:MAILTO:website@pmi-gc.de
END:VEVENT
END:VCALENDAR