BEGIN:VCALENDAR
VERSION:2.0
PRODID:Events Booking
BEGIN:VEVENT
UID:69e770dc0d59a
SUMMARY:ENGLISH ROUND TABLE FRANKFURT DECEMBER 2023
DESCRIPTION:ENGLISH ROUND TABLE FRANKFURT DECEMBER 2023
 English Round Tab
 le Frankfurt December 2023
 PMI Round Table on Project Management topic

  20.12.2023 18:30 - 20:30
 Dear PM enthusiasts\, members of PMI and frien
 ds\,
 Greetings and here's the invite to the next English Round Table for
  the project management professionals living in and around the city of Fra
 nkfurt. With this event we intend to facilitate exchange between PMs\, and
  we will talk about Project & Program Management related topic in the Orga
 nization.
 This meeting will allow you to discuss on any of the project m
 anagement related topic or questions in your project\, program\, organizat
 ion\, or your day-to-day activities. Our volunteer team from the Germany C
 hapter will be available to facilitate the discussion.
 Note that the eve
 nt will take place in English.
 Ground Rules are:
 * Event registration 
 is free of charge.* You need to sign the attendance form (N/A for online e
 vents).* Everyone pays her/his own bill (N/A for online events).* Maximum 
 2 PDU (full hour attendance) - category will be dependent on discussed. to
 pic(s) and will be agreed on site.* COVID norms at the time of event day s
 hould be followed.
 Topic: PMI Round Table on Project Management topic

  Facilitator: Pedro Rosenfeld / Shanawaz Thabrez Khadir
 When: On 20th 
 December 2023\, 6.30 pm to 8.30 pm
 Where: Metropol am Dom\, Weckmarkt 1
 3-15\, 60311 Frankfurt am Main
 Cost: Free of charge\, 2.0 PDUs.
 If an
 y difficulty in reaching out to the place\, please call 01731867204
 In c
 ase of any questions\, please get in touch with LGRhein-Main@pmi-gc.de /
  Shanawaz.Thabrez@pmi-gc.de
 Warm Regards
 Shanawaz Thabrez Khadir\, PM
 P® PMI-ACP® PMI-RMP®P3O® CSM CSPO PRINCE2 Agile
 email: Shanawaz.
 Thabrez@pmi-gc.de
 Mobile: 0049 1731867204  PMI Germany Chapter e.V. Volu
 nteer - Head of Local Group Frankfurt
LOCATION:Weckmarkt\, Frankfurt\, 60311 Hesse\, Germany
DTSTART:20231220T173000Z
DTEND:20231220T193000Z
DTSTAMP:20231214T204919Z
ORGANIZER;CN=PMI Germany Chapter e.V.:MAILTO:website@pmi-gc.de
GEO:50.110209;8.685693
X-APPLE-STRUCTURED-LOCATION;VALUE=URI;X-ADDRESS=Weckmarkt\, Frankfurt\, 603
 11 Hesse\, Germany;X-APPLE-RADIUS=72;X-TITLE=:50.110209;8.685693
END:VEVENT
END:VCALENDAR