BEGIN:VCALENDAR
VERSION:2.0
PRODID:Events Booking
BEGIN:VEVENT
UID:69e7da9e86030
SUMMARY:English Round Table Frankfurt July 2023
DESCRIPTION:English Round Table Frankfurt July 2023
 PMI Round Table on Pr
 oject Management topic
 25.07.2023 18:30 - 20:30
 Dear PM enthusiasts\, 
 members of PMI and friends\,
 Greetings and here's the invite to the next
  English Round Table for the project management professionals living in an
 d around the city of Frankfurt. With this event we intend to facilitate ex
 change between PMs\, and we will talk about Project & Program Management r
 elated topic in the Organization.
 This meeting will allow you to discuss
  on any of the project management related topic or questions in your proje
 ct\, program\, organization\, or your day-to-day activities. Our volunteer
  team from the Germany Chapter will be available to facilitate the discuss
 ion.
  
 Note that the event will take place in English
 Ground Rules 
 are:
 
 Event is free of charge
 You need to sign the attendance form (
 N/A for online events)
 Everyone pays her/his own bill (N/A for online ev
 ents)
 Maximum 2 PDU (full hour attendance) - category will be dependent 
 on discussed topic(s) and will be agreed on site
 COVID norms at the time
  of event day should be followed
 
 
 Topic: PMI Round Table on Projec
 t Management topic
 Facilitator: Pedro Rosenfeld/ Shanawaz Thabrez Khadi
 r
 When: On 25th July 2023\, 6.30 pm to 8.30 pm
 Where: Metropol am Do
 m\, Weckmarkt 13-15\, 60311 Frankfurt am Main 
 Cost: Free of charge\, 2.
 0 PDUs.
  
 If any difficulty in reaching out to the place\, please cal
 l 017683461556
 In case of any questions\, please get in touch with LGRh
 ein-Main@pmi-gc.de / Shanawaz.Thabrez@pmi-gc.de
  
 Warm Regards
 Sh
 anawaz Thabrez Khadir\, PMP® PMI-ACP® PMI-RMP®P3O® CSM CSPO PRINCE2
  Agile
 email: Shanawaz.Thabrez@pmi-gc.de
 Mobile: 0049 17683461556  PM
 I Germany Chapter e.V. Volunteer - Head of Local Group Frankfurt
LOCATION:Weckmarkt\, Frankfurt\, 60311 Hesse\, Germany
DTSTART:20230725T163000Z
DTEND:20230725T183000Z
DTSTAMP:20230715T184330Z
ORGANIZER;CN=PMI Germany Chapter e.V.:MAILTO:website@pmi-gc.de
GEO:50.110209;8.685693
X-APPLE-STRUCTURED-LOCATION;VALUE=URI;X-ADDRESS=Weckmarkt\, Frankfurt\, 603
 11 Hesse\, Germany;X-APPLE-RADIUS=72;X-TITLE=:50.110209;8.685693
END:VEVENT
END:VCALENDAR