BEGIN:VCALENDAR
VERSION:2.0
PRODID:Events Booking
BEGIN:VEVENT
UID:69e79ade7829a
SUMMARY:ENGLISH ROUND TABLE FRANKFURT OCTOBER 2023
DESCRIPTION:English Round Table Frankfurt October 2023
 PMI Round Table on
  Time or Schedule Management topic
 24.10.2023 18:30 - 20:30
 Dear PM en
 thusiasts\, members of PMI and friends\,
 Greetings and here's the invite
  to the next English Round Table for the project management professionals 
 living in and around the city of Frankfurt. With this event we intend to f
 acilitate exchange between PMs\, and we will talk about Project & Program 
 Management related topic in the Organization.
 This meeting will allow yo
 u to discuss on any of the project management related topic or questions i
 n your project\, program\, organization\, or your day-to-day activities. O
 ur volunteer team from the Germany Chapter will be available to facilitate
  the discussion.
 Note that the event will take place in English.
LOCATION:Weckmarkt\, Frankfurt\, 60311 Hesse\, Germany
DTSTART:20231024T163000Z
DTEND:20231024T183000Z
DTSTAMP:20231016T162356Z
ORGANIZER;CN=PMI Germany Chapter e.V.:MAILTO:website@pmi-gc.de
GEO:50.110209;8.685693
X-APPLE-STRUCTURED-LOCATION;VALUE=URI;X-ADDRESS=Weckmarkt\, Frankfurt\, 603
 11 Hesse\, Germany;X-APPLE-RADIUS=72;X-TITLE=:50.110209;8.685693
END:VEVENT
END:VCALENDAR