BEGIN:VCALENDAR
VERSION:2.0
PRODID:Events Booking
BEGIN:VEVENT
UID:69e7c2f984ab9
SUMMARY:PMI Chapter Xchange: Generative AI - Can it Disrupt Project Managem
 ent
DESCRIPTION:PMI Chapter Xchange Event
 
 Generative AI Can it Disrupt Pro
 ject Management?
 
 The rise and popularity of Generative AI has been am
 azing in recent years. ChatGPT\, for example\, surpassed 100 million users
  in less than two months\, making it the fastest-growing consumer applicat
 ion of all time.
 &nbsp\;
 So\, what exactly is it? It is an algorithm-b
 ased model capable of high-level communication with users\; they not only 
 base their learning on existing pools of information but are also capable 
 of developing new designs and language outputs\, as well as giving busines
 s solutions to problems expressed by users.
 
 Can Gen AI help project m
 anagers be more productive by improving job quality and automating time-co
 nsuming tasks?
 
 Are there any risks to using Gen AI in our projects\, 
 and how can we mitigate them?
 
 How do we cope with the ethical issues 
 comes with Gen AI?
 
 Finally\, Can it disrupt project management?
 
 
 Join project leaders and managers from across the globe for a #pmichapterX
 change collaborative event of&nbsp\;26-way collaboration&nbsp\;between the
  PMI Chapters of\; Mumbai\, Netherlands\, South Africa\, Sri Lanka\, Phoen
 ix\, New Zealand\, Zimbabwe\, Indonesia\, Gujarat\, Lima Peru\, Southern A
 lberta\, Sao Paulo\, Kenya\, Ghana\, Greece\, Puget Sound\, Poland\, Alask
 a\, United Arab Emirates\, Bangladesh\, Nigeria\, Cameroon\, Germany\, Lux
 embourg\, Turkiye and Madrid Spain while we explore&nbsp\;Generative AI&nb
 sp\;Can it disrupt&nbsp\;Project Management?
 
 Our supporting chapters 
 are PMI Japan.
 &nbsp\;
 Wait no more:
 Register to be part of this eve
 nt on
 Date: Aug 18\, 2023
 Time: 16:00 – 18:00 Hrs CEST
 Register be
 low.
 &nbsp\;
 When you register the time will be shown according to you
 r local time zone.
 This event is open to both members and non-members.

  
DTSTART:20230818T140000Z
DTEND:20230818T160000Z
DTSTAMP:20230804T150424Z
ORGANIZER;CN=PMI Germany Chapter e.V.:MAILTO:website@pmi-gc.de
END:VEVENT
END:VCALENDAR