BEGIN:VCALENDAR
VERSION:2.0
PRODID:Events Booking
BEGIN:VEVENT
UID:69e80360b2016
SUMMARY:Projectmanagement after the Pandemic
DESCRIPTION:This Event will be held in German language.
 Die Fachgruppe Pr
 ojektmanagement der Gesellschaft für Informatik veranstaltet gemeinsam mi
 t dem PMI Germany Chapter einen Workshop zum Thema Projektmanagement nach 
 der Pandemie.
 Mit Ende der pandemischen Lage stellt sich die Frage\, wie
  sich das Projektmanagement in den Organisationen weiterentwickeln wird.&n
 bsp\;Werden die neu geschaffenen Arbeitsmodelle (bspw. Homeoffice) weiterg
 enutzt oder sogar ausgebaut oder findet ein Rückbau auf den Stand vor der
  Pandemie statt? Was wird bleiben\, wenn unser Leben nicht mehr von der ak
 tuellen Pandemie beeinflusst wird? Wird es auch in der Arbeits- und Projek
 twelt zu „Long-Covid-Symptomen“ kommen? Welche positiven Effekte wäre
 n wünschenswert?
 Registration exclusively via the website of the Fachgr
 uppe: https://fg-wi-pm.gi.de/veranstaltung/projektmanagement-nach-der-pand
 emieHere you will find information about the schedule and the presentation
 s:&nbsp\;http://fg-wi-pm.di.ge&nbsp\;Please address any question to&nbsp\;
 martin.bertram@pmi-gc.de
LOCATION:Platz der Republik\, Friedrich-Ebert-Anlage\, Westend Süd\, Innen
 stadt 2\, Frankfurt am Main\, Hessen\, 60325\, Deutschland
DTSTART:20230504T120000Z
DTEND:20230504T170000Z
DTSTAMP:20230125T071932Z
ORGANIZER;CN=PMI Germany Chapter e.V.:MAILTO:website@pmi-gc.de
GEO:50.110052;8.660488
X-APPLE-STRUCTURED-LOCATION;VALUE=URI;X-ADDRESS=Platz der Republik\, Friedr
 ich-Ebert-Anlage\, Westend Süd\, Innenstadt 2\, Frankfurt am Main\, Hesse
 n\, 60325\, Deutschland;X-APPLE-RADIUS=72;X-TITLE=DZ Bank Frankfurt:50.110
 052;8.660488
END:VEVENT
END:VCALENDAR