BEGIN:VCALENDAR
VERSION:2.0
PRODID:Events Booking
BEGIN:VEVENT
UID:69e8df1c13c1b
SUMMARY:Gibt es wirklich kulturelle Unterschiede zwischen Deutschen und Chi
 nesen?
DESCRIPTION:Dr. Zhong Hong war lange Zeit als Top Manager in deutschen Gro
 ßkonzernen tätig.
DTSTART:20220727T170000Z
DTEND:20220727T183000Z
DTSTAMP:20220626T143422Z
ORGANIZER;CN=PMI Germany Chapter e.V.:MAILTO:website@pmi-gc.de
END:VEVENT
END:VCALENDAR