BEGIN:VCALENDAR
VERSION:2.0
PRODID:Events Booking
BEGIN:VEVENT
UID:69e8b5a5e73c8
SUMMARY:How to manage your business as a project
DESCRIPTION:
 Real business challenges and desired outcomes
 The ability 
 to unlock your hidden project management skills
 The three Ps: Prepare\, 
 Plan\, and Perform
 
DTSTART:20220907T160000Z
DTEND:20220907T173000Z
DTSTAMP:20220630T181220Z
ORGANIZER;CN=PMI Germany Chapter e.V.:MAILTO:website@pmi-gc.de
END:VEVENT
END:VCALENDAR