BEGIN:VCALENDAR
VERSION:2.0
PRODID:Events Booking
BEGIN:VEVENT
UID:69e80463c55f8
SUMMARY:Hybrid project management at M-net - The linking of two worlds! A f
 ield report followed by an exchange of experiences.
DESCRIPTION:As a telecommunications provider\, M-net is one of the critical
  infrastructure operators. In this sensitive environment\, projects must b
 e handled professionally and on schedule.Like in other industries\, M-net 
 must be able to react quickly and flexibly to meet the demands of the mark
 et. M-net therefore relies on hybrid project management for numerous proje
 ct implementations.We invite you to discuss and reflect on our hybrid proj
 ect management approaches in an open exchange format.
LOCATION:Frankfurter Ring 158\, 80807 München
DTSTART:20230629T160000Z
DTEND:20230629T193000Z
DTSTAMP:20230524T175520Z
ORGANIZER;CN=PMI Germany Chapter e.V.:MAILTO:website@pmi-gc.de
GEO:48.187584;11.587911
X-APPLE-STRUCTURED-LOCATION;VALUE=URI;X-ADDRESS=Frankfurter Ring 158\, 8080
 7 München;X-APPLE-RADIUS=72;X-TITLE=:48.187584;11.587911
END:VEVENT
END:VCALENDAR