BEGIN:VCALENDAR
VERSION:2.0
PRODID:Events Booking
BEGIN:VEVENT
UID:69e8613d3cfb2
SUMMARY:Die Digitalisierung der Kommunalverwaltungen in Schleswig-Holstein
DESCRIPTION:Die Digitalisierung der Kommunalverwaltungen in Schleswig-Holst
 ein
 
 Die erste Frist des Onlinezugangsgesetzes ist abgelaufen. Die Erg
 ebnisse sind umstritten. Die kommunale Selbstverwaltung hat Verfassungsran
 g. Zwischenfazit: Die Digitalisierung der öffentlichen Verwaltung\, vor A
 llem auf kommunaler Ebene\, ist eine Herausforderung und gewaltige Aufgabe
 \, die sich nur zentral lösen lässt.
 
 Als Referenten konnten wir Dr.
  Philipp Willer gewinnen.
 Dr Philipp Willer ist seit 2019 Geschäftsfüh
 rer des IT-Verbunds Schleswig Holstein\, einer Anstalt des öffentlichen R
 echts\, die u. a. ein Träger von dataport ist. GF ITVSH. Davor war er CDO
  der Stadt Neumünster. Bei der DATEV eG hatte er zuvor langjährig Leitun
 gspositionen für digitale Transformation inne.
LOCATION:virtuell
DTSTART:20230113T121500Z
DTEND:20230113T141500Z
DTSTAMP:20221229T122548Z
ORGANIZER;CN=PMI Germany Chapter e.V.:MAILTO:website@pmi-gc.de
GEO:53.56513;10.007167
X-APPLE-STRUCTURED-LOCATION;VALUE=URI;X-ADDRESS=virtuell;X-APPLE-RADIUS=72;
 X-TITLE=:53.56513;10.007167
END:VEVENT
END:VCALENDAR