BEGIN:VCALENDAR
VERSION:2.0
PRODID:Events Booking
BEGIN:VEVENT
UID:69e831d07be5d
SUMMARY:International Womens Day 2023
DESCRIPTION:The PMI Germany Chapter will cooperate with many other PMI Chap
 ters in organizing on March 8th 2023 a whole day online event celebrating 
 the International Women’s Day 2023. The campaign theme is #EmbraceEquity
 .&nbsp\;
 To learn more about the International Womens Day\, go to&nbsp\;
 International Women’s Day 2023: #EmbraceEquityDetailed Information about
  the event and the registration can be found here:&nbsp\;https://www.pmi.o
 rg.uk/events/womeninprojects
 Registration can only be done via:&nbsp\;ht
 tps://www.pmi.org.uk/womeninprojects-register
 Participation is free of c
 harge. Enjoy the many interesting sessions that are offered!
 Hashtags: #
 IWD2023 #EmbraceEquity
LOCATION:Online System
DTSTART:20230308T070000Z
DTEND:20230308T190000Z
DTSTAMP:20221229T081336Z
ORGANIZER;CN=PMI Germany Chapter e.V.:MAILTO:website@pmi-gc.de
END:VEVENT
END:VCALENDAR