BEGIN:VCALENDAR
VERSION:2.0
PRODID:Events Booking
BEGIN:VEVENT
UID:69ea57d1a2c92
SUMMARY:International Women's Day 2024 by PMI-GC
DESCRIPTION:This event will be held in German language!
 Imagine a gender 
 equal world. A world free of bias\, stereotypes\, and discrimination.
 A 
 world that's diverse\, equitable\, and inclusive. A world where difference
  is valued and celebrated.
 Together we can forge women's equality. Colle
 ctively we can all #InspireInclusion.
 Celebrate women's achievement. Rai
 se awareness about discrimination. Take action to drive gender parity.IWD 
 belongs to everyone\, everywhere. Inclusion means all IWD action is valid.
 
 We will start with a lecture by Isabelle Terrier:&nbsp\;She describes s
 ituation(s) from her biography that dealt with exclusion/inclusion and pra
 ctical experience with active inclusion work \"inspireinclusion\":&nbsp\;A
 fterwards\, we are planning a panel discussion.
DTSTART:20240308T140000Z
DTEND:20240308T160000Z
DTSTAMP:20240201T135927Z
ORGANIZER;CN=PMI Germany Chapter e.V.:MAILTO:website@pmi-gc.de
END:VEVENT
END:VCALENDAR