BEGIN:VCALENDAR
VERSION:2.0
PRODID:Events Booking
BEGIN:VEVENT
UID:69e8b475352d1
SUMMARY:Business Case Cloud
DESCRIPTION:What does it cost to run IT in company-owned or rented data cen
 tres? What does it cost to operate IT in a cloud? What additional requirem
 ents must be met for cloud operation? Which activities and tasks are omitt
 ed? What training does the company need to provide in order to qualify emp
 loyees and create a high level of IT security? These questions will be dis
 cussed on 27 September in a lecture by the Cologne Group in the PMI German
 y Chapter and the Community of Practice Citizen Development. 
DTSTART:20220927T160000Z
DTEND:20220927T180000Z
DTSTAMP:20220904T061641Z
ORGANIZER;CN=PMI Germany Chapter e.V.:MAILTO:website@pmi-gc.de
END:VEVENT
END:VCALENDAR