BEGIN:VCALENDAR
VERSION:2.0
PRODID:Events Booking
BEGIN:VEVENT
UID:69e9d5c0c600a
SUMMARY:KI (AI) Unterstützung bei projektbegleitenden Prüfungen
DESCRIPTION:Mit dem Einsatz toolgestützer Methoden im Rahmen der Dokumenta
 tion von Projektaufträgen und -aktivitäten werden aktuelle Projektdaten 
 strukturiert abgelegt\, die sich für automatisierte Auswertungen anbieten
 . Mit KI-gestützen Werkzeugen kann z.B. die Priorisierung von Tickets val
 idiert werden\, ein besserer Einblick über den tatsächlichen Projektfort
 schritt abgeleitet werden und eine fundierte Einschätzung der Zielerreich
 ung abgegeben werden.
LOCATION:Arnulfstraße 59\, München\, 80636 Bayern\, Deutschland
DTSTART:20240314T170000Z
DTEND:20240314T183000Z
DTSTAMP:20240113T173122Z
ORGANIZER;CN=PMI Germany Chapter e.V.:MAILTO:website@pmi-gc.de
GEO:48.145553;11.538317
X-APPLE-STRUCTURED-LOCATION;VALUE=URI;X-ADDRESS=Arnulfstraße 59\, München
 \, 80636 Bayern\, Deutschland;X-APPLE-RADIUS=72;X-TITLE=:48.145553;11.5383
 17
END:VEVENT
END:VCALENDAR