BEGIN:VCALENDAR
VERSION:2.0
PRODID:Events Booking
BEGIN:VEVENT
UID:69e8030c0aa8a
SUMMARY:Kickoff: Youth Empowerment Program
DESCRIPTION:Kickoff: Youth Empowerment Program&nbsp\;-&nbsp\;The YEP Progra
 m is an activity to promote young talents (25-35 years old) in project man
 agement\, which is about to start in 2023 within the Diversity Initiative 
 of the PMI Germany Chapter e.V.
DTSTART:20230510T170000Z
DTEND:20230510T183000Z
DTSTAMP:20230326T160443Z
ORGANIZER;CN=PMI Germany Chapter e.V.:MAILTO:website@pmi-gc.de
END:VEVENT
END:VCALENDAR