BEGIN:VCALENDAR
VERSION:2.0
PRODID:Events Booking
BEGIN:VEVENT
UID:69e7ec67ecd13
SUMMARY:Lean Management: Added Value or a necessary kind of waste?
DESCRIPTION:The Local Group Berlin/Brandenburg invites you to an interestin
 g evening on the subject
 Project Management from a Lean Perspective: Add
 ed Value or a necessary kind of waste?
 What characterizes lean project m
 anagement? How is waste avoided? Which interactions have to be considered 
 in the design and which systemic parameters have to be taken into account?
LOCATION:Chausseestraße 86\, 10115 Berlin
DTSTART:20230629T160000Z
DTEND:20230629T180000Z
DTSTAMP:20230210T170321Z
ORGANIZER;CN=PMI Germany Chapter e.V.:MAILTO:website@pmi-gc.de
END:VEVENT
END:VCALENDAR