BEGIN:VCALENDAR
VERSION:2.0
PRODID:Events Booking
BEGIN:VEVENT
UID:69e862a5d0ad9
SUMMARY:Online event LG DA:  The Culture of Nollywood in relations to Proje
 ct Management by Bukky Bamidele-Aina
DESCRIPTION:Bukky Bamidele-Aina\, PMP CSM CSPO APMC\,  originally is from 
 Nigeria\, knowing well its culture and its film industry called Nollywood.
  She lives and works since some years in Houston\, Texas\, US. She will sh
 ow us 
 
 specifics of Nigerian culture
 the role the film industry pl
 ays in Nigeria and elsewhere
 how project management is used to make film
 s and get profits from them
 how to watch Nollywood films\, and some reco
 mmendations 
 
 Nollywood is the worldwide 2nd largest film industry\, 
 after Bollywood in India. 
  
  NOTE :The online meeting will be reco
 rded as we want to provide it via our chapter channels to members who coul
 d not attend but have a strong interest in the topic. Our purpose is to su
 pport the professional development of our members. The legal basis will be
  your consent. Therefore\, we will ask for consent at the beginning of the
  recording for documentation purposes. If you do not wish your personal da
 ta to be recorded\, saved\, and distributed as described above\, you shoul
 d not attend the meeting.
 For questions: lgdarmstadt@pmi-gc.de 
DTSTART:20230119T170000Z
DTEND:20230119T183000Z
DTSTAMP:20221007T110723Z
ORGANIZER;CN=PMI Germany Chapter e.V.:MAILTO:website@pmi-gc.de
END:VEVENT
END:VCALENDAR