BEGIN:VCALENDAR
VERSION:2.0
PRODID:Events Booking
BEGIN:VEVENT
UID:69e7c39d1c13c
SUMMARY:LG DARMSTADT 11th ROUNDTABLE ONSITE
DESCRIPTION:GENERAL INFORMATION
 11th onside meeting of the local group Da
 rmstadt. As we are an internation team\, the language is English.
 Date/T
 ime: Monday\, 21 August 2023\, 18:00 - 20:30
 Location: Hochschule Darmst
 adt\, Room 00.18\, Building D19\, Schöfferstraße 10
 Cost: Free of char
 ge\, 2 PDUs
DTSTART:20230821T160000Z
DTEND:20230821T183000Z
DTSTAMP:20230129T201007Z
ORGANIZER;CN=PMI Germany Chapter e.V.:MAILTO:website@pmi-gc.de
END:VEVENT
END:VCALENDAR