BEGIN:VCALENDAR
VERSION:2.0
PRODID:Events Booking
BEGIN:VEVENT
UID:69e7abcb537bb
SUMMARY:LG DARMSTADT 12th ROUNDTABLE ONSITE
DESCRIPTION:GENERAL INFORMATION
 12th onside meeting of the local group Da
 rmstadt. As we are an international team\, the language is English.
 Date
 /Time: Monday\, 25 September 2023\, 18:00 - 20:30
 Location: Hochschule D
 armstadt\, Room 00.18\, Building D19\, Schöfferstraße 10 (to be confirme
 d)
 Cost: Free of charge\, 2 PDUs
DTSTART:20230925T160000Z
DTEND:20230925T183000Z
DTSTAMP:20230129T201007Z
ORGANIZER;CN=PMI Germany Chapter e.V.:MAILTO:website@pmi-gc.de
END:VEVENT
END:VCALENDAR