BEGIN:VCALENDAR
VERSION:2.0
PRODID:Events Booking
BEGIN:VEVENT
UID:69e81aae36af5
SUMMARY:LG DARMSTADT 7th ROUNDTABLE ONSITE
DESCRIPTION:GENERAL INFORMATION:
 7th onsite meeting of the local group Da
 rmstadt.&nbsp\;As we are an international team\, the language is English.D
 ate/Time:&nbsp\;Monday\, 24. April 2023\, 18:00-20:30Location:&nbsp\;Hochs
 chule Darmstadt\, room 00.18 building D19\,&nbsp\;Schöfferstr 10 (to be c
 onfirmed)Cost:&nbsp\;Free of charge\, 2 PDUs.
DTSTART:20230424T160000Z
DTEND:20230424T183000Z
DTSTAMP:20230129T201007Z
ORGANIZER;CN=PMI Germany Chapter e.V.:MAILTO:website@pmi-gc.de
END:VEVENT
END:VCALENDAR