BEGIN:VCALENDAR
VERSION:2.0
PRODID:Events Booking
BEGIN:VEVENT
UID:69e7f1625ea44
SUMMARY:LG DARMSTADT 9th ROUNDTABLE ONSITE
DESCRIPTION:GENERAL INFORMATION
 9th onside meeting of the local group Dar
 mstadt. As we are an internation team\, the language is English.
 Date/Ti
 me: Monday\, 26 June 2023\, 18:00 - 20:30
 Location: Hochschule Darmstadt
 \, Room 00.18\, Building D19\, Schöfferstraße 10
 Cost: Free of charge\
 , 2 PDUs
DTSTART:20230626T160000Z
DTEND:20230626T183000Z
DTSTAMP:20230129T201007Z
ORGANIZER;CN=PMI Germany Chapter e.V.:MAILTO:website@pmi-gc.de
END:VEVENT
END:VCALENDAR