BEGIN:VCALENDAR
VERSION:2.0
PRODID:Events Booking
BEGIN:VEVENT
UID:69e88bb39038c
SUMMARY:LG Darmstadt Roundtable Onsite
DESCRIPTION:Repeat of successful f2f events on 19.9.2022 and 24.10.2022.Thi
 rd onsite meeting of the local group since 2020.&nbsp\;Date/Time: Monday\,
  21.11.2022\, 18:00-20:30 (one hour earlier than previous events)
 ATTENT
 ION: DATE MOVED FROM 28.11. to 21.11.&nbsp\;Venue: At Hochschule Darmstadt
 \, room 00.18 building D19\,&nbsp\;Schöfferstr 10Cost: Free of charge\, 2
 \,5 PDUs.Agenda:&nbsp\;1. Introductions2. Topics of Interest: identify\, s
 elect and discuss&nbsp\;Please bring your own question / topic of interest
  (BYOQ).&nbsp\;For questions contact&nbsp\;lgdarmstadt@pmi-gc.de&nbsp\;or 
 0171-3358938&nbsp\;
LOCATION:Schöfferstraße 10\, Darmstadt\, 64295 Hessen\, Deutschland
DTSTART:20221121T170000Z
DTEND:20221121T193000Z
DTSTAMP:20221027T102135Z
ORGANIZER;CN=PMI Germany Chapter e.V.:MAILTO:website@pmi-gc.de
GEO:49.867314;8.638193
X-APPLE-STRUCTURED-LOCATION;VALUE=URI;X-ADDRESS=Schöfferstraße 10\, Darms
 tadt\, 64295 Hessen\, Deutschland;X-APPLE-RADIUS=72;X-TITLE=Hochschule Dar
 mstadt:49.867314;8.638193
END:VEVENT
END:VCALENDAR