BEGIN:VCALENDAR
VERSION:2.0
PRODID:Events Booking
BEGIN:VEVENT
UID:69e7c262bfa3b
SUMMARY:Stammtisch-Workshop : „LG Thuringia growing
DESCRIPTION:The Local Group Thuringia invites you toa workshop in a great a
 tmosphere and new location - topic: Where is the journey going?
 Local Gr
 oup Thuringia growing !
LOCATION:Gustav-Weißkopf-Straße 3-7\, 99092 Erfurt\, Thüringen
DTSTART:20230831T160000Z
DTEND:20230831T180000Z
DTSTAMP:20230829T175151Z
ORGANIZER;CN=PMI Germany Chapter e.V.:MAILTO:website@pmi-gc.de
GEO:50.972306;10.961459
X-APPLE-STRUCTURED-LOCATION;VALUE=URI;X-ADDRESS=Gustav-Weißkopf-Straße 3-
 7\, 99092 Erfurt\, Thüringen;X-APPLE-RADIUS=72;X-TITLE=:50.972306;10.9614
 59
END:VEVENT
END:VCALENDAR