BEGIN:VCALENDAR
VERSION:2.0
PRODID:Events Booking
BEGIN:VEVENT
UID:69e8324ce18b2
SUMMARY:Online event LG DA\; Diversity and Inclusion in projects
DESCRIPTION:Diversity and Inclusion on projects
 Build synergy for your pr
 ojects\, by harnessing- a variety of rich ideas- diversity of the team's e
 thos- projection of different experiences from- diverse cultural backgroun
 ds - multiple solutions from different mind setsInclusion is one activity 
 that makes a difference in outcomes.Learn how to foster diversity for sple
 ndid achievements by putting heart\, head and hand together in your projec
 t.
 Hina https://www.linkedin.com/in/hina-nisar-sadouzai-a2478894/ is C
 EO\, trainer and consultant for Inclusivity Policies from Islamabad\, Paki
 stan. She frequently speaks at conferences\, locally and global. 
  
 
 Questions: lgdarmstadt@pmi-gc.de 
DTSTART:20230302T170000Z
DTEND:20230302T183000Z
DTSTAMP:20230211T121652Z
ORGANIZER;CN=PMI Germany Chapter e.V.:MAILTO:website@pmi-gc.de
END:VEVENT
END:VCALENDAR