BEGIN:VCALENDAR
VERSION:2.0
PRODID:Events Booking
BEGIN:VEVENT
UID:69e8324c2fdac
SUMMARY:Online event LG DA\; The role of project managers to avoid project 
 failure
DESCRIPTION:Reza Alavipour is a PMP and Construction Management professiona
 l from Iran.
 He will share his experiences how project managers avoid pr
 oject failure. 
 Wednesday\, 29.3.2023 18:00 CEST for 90 minutes. Free z
 oom webinar. You can claim 1 PDU.
 Dr. Reza Alavipour\, https://www.link
 edin.com/in/dralavipour/   14+ years experience in Construction Engineeri
 ng and Project Management.  An Outstanding Reviewer of ASCE Journal of Con
 struction Engineering and Management in 2021 and Journal of Public Procure
 ment in 2022 in addition to conducting a joint project for CMAA and ASCE i
 n USA.  From Tehran\, Iran
  
 Questions: lgdarmstadt@pmi-gc.de 
DTSTART:20230329T160000Z
DTEND:20230329T173000Z
DTSTAMP:20230207T120837Z
ORGANIZER;CN=PMI Germany Chapter e.V.:MAILTO:website@pmi-gc.de
END:VEVENT
END:VCALENDAR