BEGIN:VCALENDAR
VERSION:2.0
PRODID:Events Booking
BEGIN:VEVENT
UID:69e80311c2df1
SUMMARY:Online event LG Darmstadt:  Redefining local NGOs' role in Disaster
  Recovery.
DESCRIPTION:https://www.linkedin.com/in/gamze-karayaz-ph-d-pmp-92aa97a/
 &
 nbsp\;
 We are proud to introduce our next speaker\, Gamze Karayaz\,Ph.D.
 \,PMP\, who will discuss Redefining local NGOs' role in Disaster Recovery.
 The World Economic Forum Global Risk Report of 2023 states that natural di
 sasters\, such as earthquakes\, are ranked as the 2nd global risk category
 . If such a risk occurs\, local NGOs are instrumental in accessing resourc
 es and supporting disaster areas. However\, suppose the disaster is signif
 icant and widespread\, as in the case of the recent earthquake in Turkey. 
 In that case\, an immediate response to agile recovery is almost impossibl
 e without the support of global NGOs. Turkey lies in an earthquake zone wi
 th active fault lines and cannot afford to risk uncoordinated local effort
 s on the ground. By learning from this heartwrenching experience\, her tal
 k will cover redefining the role of local NGOs.Gamze is an Academic at Isi
 k University and a Region Mentor at Project Management Institute.
 For at
 tendance everyone will get 1PDU.
DTSTART:20230509T160000Z
DTEND:20230509T173000Z
DTSTAMP:20230427T065020Z
ORGANIZER;CN=PMI Germany Chapter e.V.:MAILTO:website@pmi-gc.de
END:VEVENT
END:VCALENDAR