BEGIN:VCALENDAR
VERSION:2.0
PRODID:Events Booking
BEGIN:VEVENT
UID:69e7ece19ad5a
SUMMARY:Online event LG Darmstadt: Respecting Our Diversity in the Project 
 Management Context - Mounir Ajam
DESCRIPTION:https://www.linkedin.com/in/mounirajam/
 Mounir Ajam from Hous
 ton\, Texas\, is the founder and creator of the URUK way how to run projec
 ts integrating people\, processes and technology.Mounir will share with us
  two basic concepts&nbsp\;
 (1) the levels of project management and (2) 
 advocating the need for value delivery-centric thinking for project owners
 .
 Contact lgdarmstadt@pmi-gc.de&nbsp\;
DTSTART:20230606T160000Z
DTEND:20230606T173000Z
DTSTAMP:20230525T085517Z
ORGANIZER;CN=PMI Germany Chapter e.V.:MAILTO:website@pmi-gc.de
END:VEVENT
END:VCALENDAR