BEGIN:VCALENDAR
VERSION:2.0
PRODID:Events Booking
BEGIN:VEVENT
UID:69e7ece13a7d4
SUMMARY:Online event LG Darmstadt: Inception of AI into Project Management 
 – need to embrace Strategic Program Management more than ever!
DESCRIPTION:Inception of AI into Project Management – need to embrace Str
 ategic Program Management more than ever!
 by Sharad Kumar\, https://www
 .linkedin.com/in/sharad-kumar-a2962910/The integration of AI into project 
 management requires a strategic approach that aligns projects with busines
 s priorities and focuses on delivering value. While AI can provide valuabl
 e insights and uncover risks and challenges\, project managers must also c
 ultivate strong soft skills\, leadership capabilities\, and business acume
 n to create high-performing teams and address technology skill deficits. T
 he future of project management will involve advanced tools and techniques
  backed by AI\, but it is important to prioritize the human element in pro
 ject management.
 Contact: lgdarmstadt@pmi-gc.de 
  
DTSTART:20230627T160000Z
DTEND:20230627T173000Z
DTSTAMP:20230525T181536Z
ORGANIZER;CN=PMI Germany Chapter e.V.:MAILTO:website@pmi-gc.de
END:VEVENT
END:VCALENDAR