BEGIN:VCALENDAR
VERSION:2.0
PRODID:Events Booking
BEGIN:VEVENT
UID:69e7d95ba512c
SUMMARY:Online event LG Darmstadt: The World of Project Management - Bill D
 uncan
DESCRIPTION:The World of Project Management
 The project management discip
 line has a plethora of guidance: bodies of knowledge\, competence baseline
 s\, national and international standards\, organizational practices and pr
 ocedures. How can a project manager deal with all of this information\, es
 pecially when some of it is in conflict?&nbsp\;
 by Bill Duncan\,&nbsp\;
 
 Bill has over forty years of management and consulting experience.&nbsp\
 ; He was the primary author of the original (1996) version of A Guide to t
 he Project Management Body of Knowledge\, and co-author and editor of the 
 Amazon best-seller Sustainable Project Management: The GPM Reference Guide
 . Among his many volunteer commitments is serving as International Certifi
 cation Advisor for IPMA-Malaysia.Contact: lgdarmstadt@pmi-gc.de&nbsp\;
DTSTART:20230718T160000Z
DTEND:20230718T173000Z
DTSTAMP:20230528T123254Z
ORGANIZER;CN=PMI Germany Chapter e.V.:MAILTO:website@pmi-gc.de
END:VEVENT
END:VCALENDAR