BEGIN:VCALENDAR
VERSION:2.0
PRODID:Events Booking
BEGIN:VEVENT
UID:69e7c2e5d2ba3
SUMMARY:Online event LG Darmstadt: Emotional Intelligence in PM
DESCRIPTION:Emotional Intelligence in Project Management
 
 How can you s
 tand out while managing projects?
 How can you switch your teams to more 
 productivity?
 What differentiates a simple project manager and a Project
  leader?
 How can you achieve your project targets and goals effectively 
 and efficiently?
 
 Hina https://www.linkedin.com/in/hina-nisar-sadouzai
 -a2478894/ is CEO\, trainer and consultant for Inclusivity Policies from I
 slamabad\, Pakistan. She frequently speaks at conferences\, locally and gl
 obal.
 &nbsp\;Questions: lgdarmstadt@pmi-gc.de
DTSTART:20230808T160000Z
DTEND:20230808T173000Z
DTSTAMP:20230612T181257Z
ORGANIZER;CN=PMI Germany Chapter e.V.:MAILTO:website@pmi-gc.de
END:VEVENT
END:VCALENDAR